BEGIN:VCALENDAR
VERSION:2.0
PRODID:icalendar-ruby
CALSCALE:GREGORIAN
METHOD:PUBLISH
BEGIN:VEVENT
DTSTAMP:20260421T123547Z
UID:219-359438@crossroadsofhowell.com
DTSTART:20250417T223000Z
DTEND:20250417T233000Z
CLASS:PUBLIC
CREATED:20241223T213546
DESCRIPTION:
LAST-MODIFIED:20241223T213546
LOCATION:
SUMMARY:Bible Study
URL;VALUE=URI:https://www.crossroadsofhowell.com/events/bible-study--219/20
 25-04-17
END:VEVENT
END:VCALENDAR
